BEGIN:VCALENDAR
VERSION:2.0
PRODID:-//eventon.com NONSGML v1.0//EN
CALSCALE:GREGORIAN
METHOD:PUBLISH
BEGIN:VEVENT
UID:69e763087f829
DTSTAMP:20260421T114408Z
DTSTART:20260604T080000Z
DTEND:20260604T110000Z
LOCATION:
SUMMARY:Amplify Event | Durban
DESCRIPTION:Amplify Event | Durban\nhttps://d6.co.za/events/amplify-event-d
 urban/
URL:https://d6.co.za/events/amplify-event-durban/
END:VEVENT
END:VCALENDAR