BEGIN:VCALENDAR
VERSION:2.0
PRODID:-//eventon.com NONSGML v1.0//EN
CALSCALE:GREGORIAN
METHOD:PUBLISH
BEGIN:VEVENT
UID:69e76364f00a8
DTSTAMP:20260421T114540Z
DTSTART:20260519T080000Z
DTEND:20260519T110000Z
LOCATION:
SUMMARY:Amplify Event | Stellenbosch
DESCRIPTION:Amplify Event | Stellenbosch\nhttps://d6.co.za/events/amplify-e
 vent-stellenbosch/
URL:https://d6.co.za/events/amplify-event-stellenbosch/
END:VEVENT
END:VCALENDAR