BEGIN:VCALENDAR
VERSION:2.0
PRODID:-//eventon.com NONSGML v1.0//EN
CALSCALE:GREGORIAN
METHOD:PUBLISH
BEGIN:VEVENT
UID:69e7645ca48ca
DTSTAMP:20260421T114948Z
DTSTART:20260512T080000Z
DTEND:20260512T110000Z
LOCATION:
SUMMARY:Amplify Event | Pretoria
DESCRIPTION:Amplify Event | Pretoria\nhttps://d6.co.za/events/amplify-event
 -pretoria/
URL:https://d6.co.za/events/amplify-event-pretoria/
END:VEVENT
END:VCALENDAR