BEGIN:VCALENDAR
VERSION:2.0
PRODID:-//eventon.com NONSGML v1.0//EN
CALSCALE:GREGORIAN
METHOD:PUBLISH
BEGIN:VEVENT
UID:69e763be095e2
DTSTAMP:20260421T114710Z
DTSTART:20260830
DTEND:20260831
LOCATION:
SUMMARY:SAOU Principal's Symposium
DESCRIPTION:SAOU Principal's Symposium\nhttps://d6.co.za/events/saou-princi
 pals-symposium/
URL:https://d6.co.za/events/saou-principals-symposium/
END:VEVENT
END:VCALENDAR