BEGIN:VCALENDAR
VERSION:2.0
PRODID:-//eventon.com NONSGML v1.0//EN
CALSCALE:GREGORIAN
METHOD:PUBLISH
BEGIN:VEVENT
UID:69e7636bce672
DTSTAMP:20260421T114547Z
DTSTART:20260828
DTEND:20260829
LOCATION:
SUMMARY:SAOU Women's Leadership Seminar
DESCRIPTION:SAOU Women's Leadership Seminar\nhttps://d6.co.za/events/saou-w
 omens-leadership-seminar/
URL:https://d6.co.za/events/saou-womens-leadership-seminar/
END:VEVENT
END:VCALENDAR