BEGIN:VCALENDAR
VERSION:2.0
PRODID:-//eventon.com NONSGML v1.0//EN
CALSCALE:GREGORIAN
METHOD:PUBLISH
BEGIN:VEVENT
UID:69e762b39deab
DTSTAMP:20260421T114243Z
DTSTART:20260622
DTEND:20260623
LOCATION:
SUMMARY:FEDSAS Conference 2026
DESCRIPTION:FEDSAS Conference 2026\nhttps://d6.co.za/events/fedsas-conferen
 ce-2026/
URL:https://d6.co.za/events/fedsas-conference-2026/
END:VEVENT
END:VCALENDAR