BEGIN:VCALENDAR
VERSION:2.0
PRODID:-//eventon.com NONSGML v1.0//EN
CALSCALE:GREGORIAN
METHOD:PUBLISH
BEGIN:VEVENT
UID:69e763079e68e
DTSTAMP:20260421T114407Z
DTSTART:20260521
DTEND:20260522
LOCATION:
SUMMARY:SBMA National Conference
DESCRIPTION:SBMA National Conference\nhttps://d6.co.za/events/sbma-national
 -conference/
URL:https://d6.co.za/events/sbma-national-conference/
END:VEVENT
END:VCALENDAR